BEGIN:VCALENDAR
VERSION:2.0
PRODID:-//Paddy Whelan`s - ECPv4.0.5//NONSGML v1.0//EN
CALSCALE:GREGORIAN
METHOD:PUBLISH
X-WR-CALNAME:Paddy Whelan`s
X-ORIGINAL-URL:https://www.paddywhelans.com
X-WR-CALDESC:Events for Paddy Whelan`s
BEGIN:VEVENT
DTSTART;TZID="UTC+3":20220913T200000
DTEND;TZID="UTC+3":20220913T230000
DTSTAMP:20260424T201420
CREATED:20220909T151626
LAST-MODIFIED:20220911T190817
UID:17760-1663099200-1663110000@www.paddywhelans.com
SUMMARY:Blue Jays – Rays
DESCRIPTION:
URL:https://www.paddywhelans.com/event/blue-jays-rays-2/
CATEGORIES:American Sports
END:VEVENT
END:VCALENDAR