BEGIN:VCALENDAR
VERSION:2.0
PRODID:-//Paddy Whelan`s - ECPv4.0.5//NONSGML v1.0//EN
CALSCALE:GREGORIAN
METHOD:PUBLISH
X-WR-CALNAME:Paddy Whelan`s
X-ORIGINAL-URL:https://www.paddywhelans.com
X-WR-CALDESC:Events for Paddy Whelan`s
BEGIN:VEVENT
DTSTART;TZID="UTC+3":20220827T220000
DTEND;TZID="UTC+3":20220827T230000
DTSTAMP:20260425T182832
CREATED:20220820T144806
LAST-MODIFIED:20220820T144806
UID:17446-1661637600-1661641200@www.paddywhelans.com
SUMMARY:Blue Jays – Angels
DESCRIPTION:
URL:https://www.paddywhelans.com/event/blue-jays-angels/
CATEGORIES:American Sports
END:VEVENT
END:VCALENDAR