BEGIN:VCALENDAR
VERSION:2.0
PRODID:-//Paddy Whelan`s - ECPv4.0.5//NONSGML v1.0//EN
CALSCALE:GREGORIAN
METHOD:PUBLISH
X-WR-CALNAME:Paddy Whelan`s
X-ORIGINAL-URL:https://www.paddywhelans.com
X-WR-CALDESC:Events for Paddy Whelan`s
BEGIN:VEVENT
DTSTART;TZID="UTC+3":20220903T170000
DTEND;TZID="UTC+3":20220903T190000
DTSTAMP:20260425T134256
CREATED:20220828T145333
LAST-MODIFIED:20220828T145333
UID:17562-1662224400-1662231600@www.paddywhelans.com
SUMMARY:Blackburn – Bristol City
DESCRIPTION:
URL:https://www.paddywhelans.com/event/blackburn-bristol-city/
CATEGORIES:UK / IRELAND Football
END:VEVENT
END:VCALENDAR