BEGIN:VCALENDAR
VERSION:2.0
PRODID:-//Paddy Whelan`s - ECPv4.0.5//NONSGML v1.0//EN
CALSCALE:GREGORIAN
METHOD:PUBLISH
X-WR-CALNAME:Paddy Whelan`s
X-ORIGINAL-URL:https://www.paddywhelans.com
X-WR-CALDESC:Events for Paddy Whelan`s
BEGIN:VEVENT
DTSTART;TZID="UTC+3":20220826T145500
DTEND;TZID="UTC+3":20220828T190000
DTSTAMP:20260425T223647
CREATED:20220820T143640
LAST-MODIFIED:20220820T143928
UID:17441-1661525700-1661713200@www.paddywhelans.com
SUMMARY:Belgiens Grand Prix\, Formula 1
DESCRIPTION:
URL:https://www.paddywhelans.com/event/belgiens-grand-prix-formula-1/
CATEGORIES:Motor Sports/F1
END:VEVENT
END:VCALENDAR