BEGIN:VCALENDAR
VERSION:2.0
PRODID:-//Paddy Whelan`s - ECPv4.0.5//NONSGML v1.0//EN
CALSCALE:GREGORIAN
METHOD:PUBLISH
X-WR-CALNAME:Paddy Whelan`s
X-ORIGINAL-URL:https://www.paddywhelans.com
X-WR-CALDESC:Events for Paddy Whelan`s
BEGIN:VEVENT
DTSTART;TZID="UTC+3":20180721T170000
DTEND;TZID="UTC+3":20180721T170000
DTSTAMP:20260423T233038
CREATED:20180715T091158
LAST-MODIFIED:20180715T091158
UID:5325-1532192400-1532192400@www.paddywhelans.com
SUMMARY:Beach Volleyball – European Championship: Men\, ¼ finals
DESCRIPTION:
URL:https://www.paddywhelans.com/event/beach-volleyball-european-championship-men-%c2%bc-finals/
CATEGORIES:Other Sports
END:VEVENT
END:VCALENDAR