BEGIN:VCALENDAR
VERSION:2.0
PRODID:-//Paddy Whelan`s - ECPv4.0.5//NONSGML v1.0//EN
CALSCALE:GREGORIAN
METHOD:PUBLISH
X-WR-CALNAME:Paddy Whelan`s
X-ORIGINAL-URL:https://www.paddywhelans.com
X-WR-CALDESC:Events for Paddy Whelan`s
BEGIN:VEVENT
DTSTART;TZID="UTC+3":20220910T162000
DTEND;TZID="UTC+3":20220910T200000
DTSTAMP:20260425T012057
CREATED:20220903T181226
LAST-MODIFIED:20220903T181226
UID:17722-1662826800-1662840000@www.paddywhelans.com
SUMMARY:Bayern Munchen – Stuttgart
DESCRIPTION:
URL:https://www.paddywhelans.com/event/bayern-munchen-stuttgart/
CATEGORIES:Continental Europe Football
END:VEVENT
END:VCALENDAR