BEGIN:VCALENDAR
VERSION:2.0
PRODID:-//Paddy Whelan`s - ECPv4.0.5//NONSGML v1.0//EN
CALSCALE:GREGORIAN
METHOD:PUBLISH
X-WR-CALNAME:Paddy Whelan`s
X-ORIGINAL-URL:https://www.paddywhelans.com
X-WR-CALDESC:Events for Paddy Whelan`s
BEGIN:VEVENT
DTSTART;TZID="UTC+3":20220923T214000
DTEND;TZID="UTC+3":20220923T230000
DTSTAMP:20260426T001807
CREATED:20220916T163425
LAST-MODIFIED:20220916T163425
UID:17891-1663969200-1663974000@www.paddywhelans.com
SUMMARY:Bath Rugby – Wasps
DESCRIPTION:
URL:https://www.paddywhelans.com/event/bath-rugby-wasps/
CATEGORIES:Rugby Union
END:VEVENT
END:VCALENDAR