BEGIN:VCALENDAR
VERSION:2.0
PRODID:-//Paddy Whelan`s - ECPv4.0.5//NONSGML v1.0//EN
CALSCALE:GREGORIAN
METHOD:PUBLISH
X-WR-CALNAME:Paddy Whelan`s
X-ORIGINAL-URL:https://www.paddywhelans.com
X-WR-CALDESC:Events for Paddy Whelan`s
BEGIN:VEVENT
DTSTART;TZID="UTC+3":20190201T211500
DTEND;TZID="UTC+3":20190201T211500
DTSTAMP:20260421T032048
CREATED:20190127T161113
LAST-MODIFIED:20190127T161113
UID:6036-1549055700-1549055700@www.paddywhelans.com
SUMMARY:Basketball – Turkish Airlines Euroleague: Panathinaikos Athens VS Anadolu Istanbul
DESCRIPTION:
URL:https://www.paddywhelans.com/event/basketball-turkish-airlines-euroleague-panathinaikos-athens-vs-anadolu-istanbul/
CATEGORIES:Basketball
END:VEVENT
END:VCALENDAR