BEGIN:VCALENDAR
VERSION:2.0
PRODID:-//Paddy Whelan`s - ECPv4.0.5//NONSGML v1.0//EN
CALSCALE:GREGORIAN
METHOD:PUBLISH
X-WR-CALNAME:Paddy Whelan`s
X-ORIGINAL-URL:https://www.paddywhelans.com
X-WR-CALDESC:Events for Paddy Whelan`s
BEGIN:VEVENT
DTSTART;TZID="UTC+3":20190131T204500
DTEND;TZID="UTC+3":20190131T204500
DTSTAMP:20260421T044639
CREATED:20190127T160739
LAST-MODIFIED:20190127T160739
UID:6031-1548967500-1548967500@www.paddywhelans.com
SUMMARY:Basketball – Turkish Airlines Euroleague: Olympiacos Piraeus VS Barcelona Lassa
DESCRIPTION:
URL:https://www.paddywhelans.com/event/basketball-turkish-airlines-euroleague-olympiacos-piraeus-vs-barcelona-lassa/
CATEGORIES:Basketball
END:VEVENT
END:VCALENDAR