BEGIN:VCALENDAR
VERSION:2.0
PRODID:-//Paddy Whelan`s - ECPv4.0.5//NONSGML v1.0//EN
CALSCALE:GREGORIAN
METHOD:PUBLISH
X-WR-CALNAME:Paddy Whelan`s
X-ORIGINAL-URL:https://www.paddywhelans.com
X-WR-CALDESC:Events for Paddy Whelan`s
BEGIN:VEVENT
DTSTART;TZID="UTC+3":20181227T205000
DTEND;TZID="UTC+3":20181227T205000
DTSTAMP:20260423T211529
CREATED:20181223T205036
LAST-MODIFIED:20181223T205036
UID:5898-1545943800-1545943800@www.paddywhelans.com
SUMMARY:Basketball – Turkish Airlines Euroleague: Maccabi Fox Tel Aviv VS Armani Milan
DESCRIPTION:
URL:https://www.paddywhelans.com/event/basketball-turkish-airlines-euroleague-maccabi-fox-tel-aviv-vs-armani-milan/
CATEGORIES:Basketball
END:VEVENT
END:VCALENDAR