BEGIN:VCALENDAR
VERSION:2.0
PRODID:-//Paddy Whelan`s - ECPv4.0.5//NONSGML v1.0//EN
CALSCALE:GREGORIAN
METHOD:PUBLISH
X-WR-CALNAME:Paddy Whelan`s
X-ORIGINAL-URL:https://www.paddywhelans.com
X-WR-CALDESC:Events for Paddy Whelan`s
BEGIN:VEVENT
DTSTART;TZID="UTC+3":20190108T184500
DTEND;TZID="UTC+3":20190108T184500
DTSTAMP:20260423T002611
CREATED:20190105T212533
LAST-MODIFIED:20190105T212533
UID:5949-1546973100-1546973100@www.paddywhelans.com
SUMMARY:Basketball – Turkish Airlines Euroleague: Khimki Moscow VS Fenerbahce Istanbul
DESCRIPTION:
URL:https://www.paddywhelans.com/event/basketball-turkish-airlines-euroleague-khimki-moscow-vs-fenerbahce-istanbul/
CATEGORIES:Basketball
END:VEVENT
END:VCALENDAR