BEGIN:VCALENDAR
VERSION:2.0
PRODID:-//Paddy Whelan`s - ECPv4.0.5//NONSGML v1.0//EN
CALSCALE:GREGORIAN
METHOD:PUBLISH
X-WR-CALNAME:Paddy Whelan`s
X-ORIGINAL-URL:https://www.paddywhelans.com
X-WR-CALDESC:Events for Paddy Whelan`s
BEGIN:VEVENT
DTSTART;TZID="UTC+3":20181206T194500
DTEND;TZID="UTC+3":20181206T194500
DTSTAMP:20260426T003528
CREATED:20181202T205636
LAST-MODIFIED:20181202T205636
UID:5778-1544125500-1544125500@www.paddywhelans.com
SUMMARY:Basketball – Turkish Airlines Euroleague: Kaunas Zalgiris VS Olympiacos Piraeus
DESCRIPTION:
URL:https://www.paddywhelans.com/event/basketball-turkish-airlines-euroleague-kaunas-zalgiris-vs-olympiacos-piraeus/
CATEGORIES:Basketball
END:VEVENT
END:VCALENDAR