BEGIN:VCALENDAR
VERSION:2.0
PRODID:-//Paddy Whelan`s - ECPv4.0.5//NONSGML v1.0//EN
CALSCALE:GREGORIAN
METHOD:PUBLISH
X-WR-CALNAME:Paddy Whelan`s
X-ORIGINAL-URL:https://www.paddywhelans.com
X-WR-CALDESC:Events for Paddy Whelan`s
BEGIN:VEVENT
DTSTART;TZID="UTC+3":20190108T201500
DTEND;TZID="UTC+3":20190108T201500
DTSTAMP:20260423T001826
CREATED:20190105T212626
LAST-MODIFIED:20190105T212626
UID:5950-1546978500-1546978500@www.paddywhelans.com
SUMMARY:Basketball – Turkish Airlines Euroleague: Kaunas Zalgiris VS Anadolu Efes Istanbul
DESCRIPTION:
URL:https://www.paddywhelans.com/event/basketball-turkish-airlines-euroleague-kaunas-zalgiris-vs-anadolu-efes-istanbul/
CATEGORIES:Basketball
END:VEVENT
END:VCALENDAR