BEGIN:VCALENDAR
VERSION:2.0
PRODID:-//Paddy Whelan`s - ECPv4.0.5//NONSGML v1.0//EN
CALSCALE:GREGORIAN
METHOD:PUBLISH
X-WR-CALNAME:Paddy Whelan`s
X-ORIGINAL-URL:https://www.paddywhelans.com
X-WR-CALDESC:Events for Paddy Whelan`s
BEGIN:VEVENT
DTSTART;TZID="UTC+3":20190110T193000
DTEND;TZID="UTC+3":20190110T193000
DTSTAMP:20260422T211804
CREATED:20190105T213009
LAST-MODIFIED:20190105T213009
UID:5958-1547148600-1547148600@www.paddywhelans.com
SUMMARY:Basketball – Turkish Airlines Euroleague: Fenerbahce Istanbul VS Kaunas Žalgiris
DESCRIPTION:
URL:https://www.paddywhelans.com/event/basketball-turkish-airlines-euroleague-fenerbahce-istanbul-vs-kaunas-zalgiris/
CATEGORIES:Basketball
END:VEVENT
END:VCALENDAR