BEGIN:VCALENDAR
VERSION:2.0
PRODID:-//Paddy Whelan`s - ECPv4.0.5//NONSGML v1.0//EN
CALSCALE:GREGORIAN
METHOD:PUBLISH
X-WR-CALNAME:Paddy Whelan`s
X-ORIGINAL-URL:https://www.paddywhelans.com
X-WR-CALDESC:Events for Paddy Whelan`s
BEGIN:VEVENT
DTSTART;TZID="UTC+3":20181213T201500
DTEND;TZID="UTC+3":20181213T201500
DTSTAMP:20260425T125117
CREATED:20181209T193756
LAST-MODIFIED:20181209T193756
UID:5820-1544732100-1544732100@www.paddywhelans.com
SUMMARY:Basketball – Turkish Airlines Euroleague: Fenerbahce Istanbul VS Armani Milan
DESCRIPTION:
URL:https://www.paddywhelans.com/event/basketball-turkish-airlines-euroleague-fenerbahce-istanbul-vs-armani-milan/
CATEGORIES:Basketball
END:VEVENT
END:VCALENDAR