BEGIN:VCALENDAR
VERSION:2.0
PRODID:-//Paddy Whelan`s - ECPv4.0.5//NONSGML v1.0//EN
CALSCALE:GREGORIAN
METHOD:PUBLISH
X-WR-CALNAME:Paddy Whelan`s
X-ORIGINAL-URL:https://www.paddywhelans.com
X-WR-CALDESC:Events for Paddy Whelan`s
BEGIN:VEVENT
DTSTART;TZID="UTC+3":20190111T184500
DTEND;TZID="UTC+3":20190111T184500
DTSTAMP:20260422T191047
CREATED:20190105T213235
LAST-MODIFIED:20190105T213235
UID:5962-1547232300-1547232300@www.paddywhelans.com
SUMMARY:Basketball – Turkish Airlines Euroleague: CSKA Moscow VS Maccabi Fox Tel Aviv
DESCRIPTION:
URL:https://www.paddywhelans.com/event/basketball-turkish-airlines-euroleague-cska-moscow-vs-maccabi-fox-tel-aviv/
CATEGORIES:Basketball
END:VEVENT
END:VCALENDAR