BEGIN:VCALENDAR
VERSION:2.0
PRODID:-//Paddy Whelan`s - ECPv4.0.5//NONSGML v1.0//EN
CALSCALE:GREGORIAN
METHOD:PUBLISH
X-WR-CALNAME:Paddy Whelan`s
X-ORIGINAL-URL:https://www.paddywhelans.com
X-WR-CALDESC:Events for Paddy Whelan`s
BEGIN:VEVENT
DTSTART;TZID="UTC+3":20190111T211500
DTEND;TZID="UTC+3":20190111T211500
DTSTAMP:20260422T191047
CREATED:20190105T213437
LAST-MODIFIED:20190105T213437
UID:5964-1547241300-1547241300@www.paddywhelans.com
SUMMARY:Basketball – Turkish Airlines Euroleague: Bayern Munich VS Armani Milan
DESCRIPTION:
URL:https://www.paddywhelans.com/event/basketball-turkish-airlines-euroleague-bayern-munich-vs-armani-milan/
CATEGORIES:Basketball
END:VEVENT
END:VCALENDAR