BEGIN:VCALENDAR
VERSION:2.0
PRODID:-//Paddy Whelan`s - ECPv4.0.5//NONSGML v1.0//EN
CALSCALE:GREGORIAN
METHOD:PUBLISH
X-WR-CALNAME:Paddy Whelan`s
X-ORIGINAL-URL:https://www.paddywhelans.com
X-WR-CALDESC:Events for Paddy Whelan`s
BEGIN:VEVENT
DTSTART;TZID="UTC+3":20190131T211500
DTEND;TZID="UTC+3":20190131T211500
DTSTAMP:20260421T044723
CREATED:20190127T160820
LAST-MODIFIED:20190127T160820
UID:6032-1548969300-1548969300@www.paddywhelans.com
SUMMARY:Basketball – Turkish Airlines Euroleague: Bayern München VS Fenerbahce Istanbul
DESCRIPTION:
URL:https://www.paddywhelans.com/event/basketball-turkish-airlines-euroleague-bayern-munchen-vs-fenerbahce-istanbul/
CATEGORIES:Basketball
END:VEVENT
END:VCALENDAR