BEGIN:VCALENDAR
VERSION:2.0
PRODID:-//Paddy Whelan`s - ECPv4.0.5//NONSGML v1.0//EN
CALSCALE:GREGORIAN
METHOD:PUBLISH
X-WR-CALNAME:Paddy Whelan`s
X-ORIGINAL-URL:https://www.paddywhelans.com
X-WR-CALDESC:Events for Paddy Whelan`s
BEGIN:VEVENT
DTSTART;TZID="UTC+3":20190104T214500
DTEND;TZID="UTC+3":20190104T214500
DTSTAMP:20260423T074951
CREATED:20181229T154640
LAST-MODIFIED:20181229T154640
UID:5936-1546638300-1546638300@www.paddywhelans.com
SUMMARY:Basketball – Turkish Airlines Euroleague: Bacelona Lassa VS Darussafaka Istanbul
DESCRIPTION:
URL:https://www.paddywhelans.com/event/basketball-turkish-airlines-euroleague-bacelona-lassa-vs-darussafaka-istanbul/
CATEGORIES:Basketball
END:VEVENT
END:VCALENDAR