BEGIN:VCALENDAR
VERSION:2.0
PRODID:-//Paddy Whelan`s - ECPv4.0.5//NONSGML v1.0//EN
CALSCALE:GREGORIAN
METHOD:PUBLISH
X-WR-CALNAME:Paddy Whelan`s
X-ORIGINAL-URL:https://www.paddywhelans.com
X-WR-CALDESC:Events for Paddy Whelan`s
BEGIN:VEVENT
DTSTART;TZID="UTC+3":20181219T213000
DTEND;TZID="UTC+3":20181219T213000
DTSTAMP:20260425T033039
CREATED:20181217T094149
LAST-MODIFIED:20181217T094149
UID:5856-1545255000-1545255000@www.paddywhelans.com
SUMMARY:Basketball – Turkish Airlines Euroleague: AX Armani Exchange Olimpia Milan VS FC Bayern Munich
DESCRIPTION:
URL:https://www.paddywhelans.com/event/basketball-turkish-airlines-euroleague-ax-armani-exchange-olimpia-milan-vs-fc-bayern-munich/
CATEGORIES:Basketball
END:VEVENT
END:VCALENDAR