BEGIN:VCALENDAR
VERSION:2.0
PRODID:-//Paddy Whelan`s - ECPv4.0.5//NONSGML v1.0//EN
CALSCALE:GREGORIAN
METHOD:PUBLISH
X-WR-CALNAME:Paddy Whelan`s
X-ORIGINAL-URL:https://www.paddywhelans.com
X-WR-CALDESC:Events for Paddy Whelan`s
BEGIN:VEVENT
DTSTART;TZID="UTC+3":20190208T213000
DTEND;TZID="UTC+3":20190208T213000
DTSTAMP:20260420T151526
CREATED:20190202T163742
LAST-MODIFIED:20190202T163742
UID:6071-1549661400-1549661400@www.paddywhelans.com
SUMMARY:Basketball – Turkish Airlines Euroleague: Armani Milan VS Darussafaka Istanbul
DESCRIPTION:
URL:https://www.paddywhelans.com/event/basketball-turkish-airlines-euroleague-armani-milan-vs-darussafaka-istanbul/
CATEGORIES:Basketball
END:VEVENT
END:VCALENDAR