BEGIN:VCALENDAR
VERSION:2.0
PRODID:-//Paddy Whelan`s - ECPv4.0.5//NONSGML v1.0//EN
CALSCALE:GREGORIAN
METHOD:PUBLISH
X-WR-CALNAME:Paddy Whelan`s
X-ORIGINAL-URL:https://www.paddywhelans.com
X-WR-CALDESC:Events for Paddy Whelan`s
BEGIN:VEVENT
DTSTART;TZID="UTC+3":20190118T191500
DTEND;TZID="UTC+3":20190118T191500
DTSTAMP:20260422T073519
CREATED:20190113T142801
LAST-MODIFIED:20190113T142801
UID:5991-1547838900-1547838900@www.paddywhelans.com
SUMMARY:Basketball – Turkish Airlines Euroleague: Anadolu Istanbul VS Darussafaka Istanbul
DESCRIPTION:
URL:https://www.paddywhelans.com/event/basketball-turkish-airlines-euroleague-anadolu-istanbul-vs-darussafaka-istanbul/
CATEGORIES:Basketball
END:VEVENT
END:VCALENDAR