BEGIN:VCALENDAR
VERSION:2.0
PRODID:-//Paddy Whelan`s - ECPv4.0.5//NONSGML v1.0//EN
CALSCALE:GREGORIAN
METHOD:PUBLISH
X-WR-CALNAME:Paddy Whelan`s
X-ORIGINAL-URL:https://www.paddywhelans.com
X-WR-CALDESC:Events for Paddy Whelan`s
BEGIN:VEVENT
DTSTART;TZID="UTC+3":20220917T171500
DTEND;TZID="UTC+3":20220917T190000
DTSTAMP:20260425T144057
CREATED:20220911T193208
LAST-MODIFIED:20220911T193208
UID:17840-1663434900-1663441200@www.paddywhelans.com
SUMMARY:Barcelona – Elche
DESCRIPTION:
URL:https://www.paddywhelans.com/event/barcelona-elche/
CATEGORIES:La Liga
END:VEVENT
END:VCALENDAR