BEGIN:VCALENDAR
VERSION:2.0
PRODID:-//Paddy Whelan`s - ECPv4.0.5//NONSGML v1.0//EN
CALSCALE:GREGORIAN
METHOD:PUBLISH
X-WR-CALNAME:Paddy Whelan`s
X-ORIGINAL-URL:https://www.paddywhelans.com
X-WR-CALDESC:Events for Paddy Whelan`s
BEGIN:VEVENT
DTSTART;TZID="UTC+3":20220918T180000
DTEND;TZID="UTC+3":20220918T200000
DTSTAMP:20260425T144303
CREATED:20220911T194903
LAST-MODIFIED:20220911T194903
UID:17863-1663524000-1663531200@www.paddywhelans.com
SUMMARY:Auda – Super Nova
DESCRIPTION:
URL:https://www.paddywhelans.com/event/auda-super-nova/
CATEGORIES:Continental Europe Football
END:VEVENT
END:VCALENDAR