BEGIN:VCALENDAR
VERSION:2.0
PRODID:-//Paddy Whelan`s - ECPv4.0.5//NONSGML v1.0//EN
CALSCALE:GREGORIAN
METHOD:PUBLISH
X-WR-CALNAME:Paddy Whelan`s
X-ORIGINAL-URL:https://www.paddywhelans.com
X-WR-CALDESC:Events for Paddy Whelan`s
BEGIN:VEVENT
DTSTART;TZID="UTC+3":20220910T160000
DTEND;TZID="UTC+3":20220910T180000
DTSTAMP:20260424T202547
CREATED:20220903T181746
LAST-MODIFIED:20220903T181746
UID:17734-1662825600-1662832800@www.paddywhelans.com
SUMMARY:Auda – Metta
DESCRIPTION:
URL:https://www.paddywhelans.com/event/auda-metta/
CATEGORIES:Continental Europe Football
END:VEVENT
END:VCALENDAR