BEGIN:VCALENDAR
VERSION:2.0
PRODID:-//Paddy Whelan`s - ECPv4.0.5//NONSGML v1.0//EN
CALSCALE:GREGORIAN
METHOD:PUBLISH
X-WR-CALNAME:Paddy Whelan`s
X-ORIGINAL-URL:https://www.paddywhelans.com
X-WR-CALDESC:Events for Paddy Whelan`s
BEGIN:VEVENT
DTSTART;TZID="UTC+3":20220918T220000
DTEND;TZID="UTC+3":20220918T230000
DTSTAMP:20260425T152207
CREATED:20220911T194709
LAST-MODIFIED:20220911T194709
UID:17861-1663538400-1663542000@www.paddywhelans.com
SUMMARY:Atlecito Madrid - Real Madrid
DESCRIPTION:
URL:https://www.paddywhelans.com/event/atlecito-madrid-real-madrid/
CATEGORIES:La Liga
END:VEVENT
END:VCALENDAR