BEGIN:VCALENDAR
VERSION:2.0
PRODID:-//Paddy Whelan`s - ECPv4.0.5//NONSGML v1.0//EN
CALSCALE:GREGORIAN
METHOD:PUBLISH
X-WR-CALNAME:Paddy Whelan`s
X-ORIGINAL-URL:https://www.paddywhelans.com
X-WR-CALDESC:Events for Paddy Whelan`s
BEGIN:VEVENT
DTSTART;TZID="UTC+3":20220827T192500
DTEND;TZID="UTC+3":20220827T220000
DTSTAMP:20260425T205320
CREATED:20220820T145111
LAST-MODIFIED:20220820T145111
UID:17452-1661628300-1661637600@www.paddywhelans.com
SUMMARY:Arsenal – Fulham
DESCRIPTION:
URL:https://www.paddywhelans.com/event/arsenal-fulham/
CATEGORIES:English Premier Leaugue
END:VEVENT
END:VCALENDAR