BEGIN:VCALENDAR
VERSION:2.0
PRODID:-//Paddy Whelan`s - ECPv4.0.5//NONSGML v1.0//EN
CALSCALE:GREGORIAN
METHOD:PUBLISH
X-WR-CALNAME:Paddy Whelan`s
X-ORIGINAL-URL:https://www.paddywhelans.com
X-WR-CALDESC:Events for Paddy Whelan`s
BEGIN:VEVENT
DTSTART;TZID="UTC+3":20220831T213000
DTEND;TZID="UTC+3":20220831T230000
DTSTAMP:20260425T132040
CREATED:20220827T153000
LAST-MODIFIED:20220827T153000
UID:17502-1661981400-1661986800@www.paddywhelans.com
SUMMARY:Arsenal – Asrton Villa
DESCRIPTION:
URL:https://www.paddywhelans.com/event/arsenal-asrton-villa/
CATEGORIES:English Premier Leaugue
END:VEVENT
END:VCALENDAR