BEGIN:VCALENDAR
VERSION:2.0
PRODID:-//Paddy Whelan`s - ECPv4.0.5//NONSGML v1.0//EN
CALSCALE:GREGORIAN
METHOD:PUBLISH
X-WR-CALNAME:Paddy Whelan`s
X-ORIGINAL-URL:https://www.paddywhelans.com
X-WR-CALDESC:Events for Paddy Whelan`s
BEGIN:VEVENT
DTSTART;TZID="UTC+3":20220907T194000
DTEND;TZID="UTC+3":20220907T210000
DTSTAMP:20260424T023639
CREATED:20220903T170138
LAST-MODIFIED:20220903T170138
UID:17639-1662579600-1662584400@www.paddywhelans.com
SUMMARY:Ajax – Rengers
DESCRIPTION:
URL:https://www.paddywhelans.com/event/ajax-rengers/
CATEGORIES:UEFA Champions League
END:VEVENT
END:VCALENDAR