BEGIN:VCALENDAR
VERSION:2.0
PRODID:-//Paddy Whelan`s - ECPv4.0.5//NONSGML v1.0//EN
CALSCALE:GREGORIAN
METHOD:PUBLISH
X-WR-CALNAME:Paddy Whelan`s
X-ORIGINAL-URL:https://www.paddywhelans.com
X-WR-CALDESC:Events for Paddy Whelan`s
BEGIN:VEVENT
DTSTART;TZID="UTC+3":20180630T164500
DTEND;TZID="UTC+3":20180630T170000
DTSTAMP:20260420T153741
CREATED:20180625T213257
LAST-MODIFIED:20180625T213257
UID:5282-1530377100-1530378000@www.paddywhelans.com
SUMMARY:2018 FIFA World Cup Russia:1/8 final
DESCRIPTION:
URL:https://www.paddywhelans.com/event/2018-fifa-world-cup-russia18-final/
END:VEVENT
END:VCALENDAR