BEGIN:VCALENDAR
VERSION:2.0
PRODID:-//Paddy Whelan`s - ECPv4.0.5//NONSGML v1.0//EN
CALSCALE:GREGORIAN
METHOD:PUBLISH
X-WR-CALNAME:Paddy Whelan`s
X-ORIGINAL-URL:https://www.paddywhelans.com
X-WR-CALDESC:Events for Paddy Whelan`s
BEGIN:VEVENT
DTSTART;TZID="UTC+3":20180628T164500
DTEND;TZID="UTC+3":20180628T170000
DTSTAMP:20260420T121004
CREATED:20180622T084422
LAST-MODIFIED:20180622T084422
UID:5276-1530204300-1530205200@www.paddywhelans.com
SUMMARY:2018 FIFA World Cup Russia: Senegal VS Columbia
DESCRIPTION:
URL:https://www.paddywhelans.com/event/2018-fifa-world-cup-russia-senegal-vs-columbia/
END:VEVENT
END:VCALENDAR