BEGIN:VCALENDAR
VERSION:2.0
PRODID:-//Paddy Whelan`s - ECPv4.0.5//NONSGML v1.0//EN
CALSCALE:GREGORIAN
METHOD:PUBLISH
X-WR-CALNAME:Paddy Whelan`s
X-ORIGINAL-URL:https://www.paddywhelans.com
X-WR-CALDESC:Events for Paddy Whelan`s
BEGIN:VEVENT
DTSTART;TZID="UTC+3":20180627T164500
DTEND;TZID="UTC+3":20180627T170000
DTSTAMP:20260420T104801
CREATED:20180622T084246
LAST-MODIFIED:20180622T084246
UID:5274-1530117900-1530118800@www.paddywhelans.com
SUMMARY:2018 FIFA World Cup Russia: Korea VS Germany
DESCRIPTION:
URL:https://www.paddywhelans.com/event/2018-fifa-world-cup-russia-korea-vs-germany/
END:VEVENT
END:VCALENDAR