BEGIN:VCALENDAR
VERSION:2.0
PRODID:-//Paddy Whelan`s - ECPv4.0.5//NONSGML v1.0//EN
CALSCALE:GREGORIAN
METHOD:PUBLISH
X-WR-CALNAME:Paddy Whelan`s
X-ORIGINAL-URL:https://www.paddywhelans.com
X-WR-CALDESC:Events for Paddy Whelan`s
BEGIN:VEVENT
DTSTART;TZID="UTC+3":20180628T204500
DTEND;TZID="UTC+3":20180628T204500
DTSTAMP:20260420T121951
CREATED:20180622T084507
LAST-MODIFIED:20180622T084507
UID:5277-1530218700-1530218700@www.paddywhelans.com
SUMMARY:2018 FIFA World Cup Russia: England VS Belgium
DESCRIPTION:
URL:https://www.paddywhelans.com/event/2018-fifa-world-cup-russia-england-vs-belgium/
END:VEVENT
END:VCALENDAR