BEGIN:VCALENDAR
VERSION:2.0
PRODID:-//Paddy Whelan`s - ECPv4.0.5//NONSGML v1.0//EN
CALSCALE:GREGORIAN
METHOD:PUBLISH
X-WR-CALNAME:Paddy Whelan`s
X-ORIGINAL-URL:https://www.paddywhelans.com
X-WR-CALDESC:Events for Paddy Whelan`s
BEGIN:VEVENT
DTSTART;TZID="UTC+3":20180623T144500
DTEND;TZID="UTC+3":20180623T170000
DTSTAMP:20260420T090427
CREATED:20180622T083353
LAST-MODIFIED:20180622T083353
UID:5262-1529765100-1529773200@www.paddywhelans.com
SUMMARY:2018 FIFA World Cup Russia: Belgium VS Tunisia
DESCRIPTION:
URL:https://www.paddywhelans.com/event/2018-fifa-world-cup-russia-belgium-vs-tunisia/
END:VEVENT
END:VCALENDAR